BEGIN:VCALENDAR
VERSION:2.0
PRODID:-//ChamberMaster//Event Calendar 2.0//EN
METHOD:PUBLISH
X-PUBLISHED-TTL:P3D
REFRESH-INTERVAL:P3D
CALSCALE:GREGORIAN
BEGIN:VEVENT
DTSTART:20160917T140000Z
DTEND:20160917T210000Z
X-MICROSOFT-CDO-ALLDAYEVENT:FALSE
SUMMARY:Mid-Valley Home Buyer's Fair
DESCRIPTION:The Homebuyer's Fair is an event established and organized by Affordable Homes of South Texas\, Inc. The event promotes homeownership through the education of consumers\, at all income levels\, interested in the home buying process.
X-ALT-DESC;FMTTYPE=text/html:<p>The Homebuyer&#39\;s Fair is an event established and organized by Affordable Homes of South Texas\, Inc. The event promotes homeownership through the education of consumers\, at all income levels\, interested in the home buying process.</p>\n
LOCATION:STC Mid Valley Gym 400 N. Border
UID:e.1244.11026
SEQUENCE:3
DTSTAMP:20260422T164623Z
URL:https://business.weslaco.com/events/details/mid-valley-home-buyer-s-fair-11026
END:VEVENT

END:VCALENDAR
