BEGIN:VCALENDAR
VERSION:2.0
PRODID:-//ChamberMaster//Event Calendar 2.0//EN
METHOD:PUBLISH
X-PUBLISHED-TTL:P3D
REFRESH-INTERVAL:P3D
CALSCALE:GREGORIAN
BEGIN:VEVENT
DTSTART:20170729T140000Z
DTEND:20170729T210000Z
X-MICROSOFT-CDO-ALLDAYEVENT:FALSE
SUMMARY:Mid-Valley Home Buyer's Fair
DESCRIPTION:The Homebuyer's Fair is an event established and organized by Affordable Homes of South Texas\, Inc. The event promotes homeownership through the education of consumers\, at all income levels\, interested in the home buying process. Free admission\, free bilingual seminars\, and free credit reports!
X-ALT-DESC;FMTTYPE=text/html:<p>The Homebuyer&#39\;s Fair is an event established and organized by Affordable Homes of South Texas\, Inc. The event promotes homeownership through the education of consumers\, at all income levels\, interested in the home buying process. Free admission\, free bilingual seminars\, and free credit reports!</p>\n
LOCATION:Weslaco Central Middle School Gym 537 E. 7th Street
UID:e.1244.12772
SEQUENCE:3
DTSTAMP:20260422T013812Z
URL:https://business.weslaco.com/events/details/mid-valley-home-buyer-s-fair-12772
END:VEVENT

END:VCALENDAR
