BEGIN:VCALENDAR
VERSION:2.0
PRODID:-//ChamberMaster//Event Calendar 2.0//EN
METHOD:PUBLISH
X-PUBLISHED-TTL:P3D
REFRESH-INTERVAL:P3D
CALSCALE:GREGORIAN
BEGIN:VEVENT
DTSTART:20211007T170000Z
DTEND:20211007T180000Z
X-MICROSOFT-CDO-ALLDAYEVENT:FALSE
SUMMARY:Mid-Valley Hotelier Quarterly Luncheon
DESCRIPTION:The Weslaco Chamber hosts quarterly Hotelier Meetings for our Mid-Valley Hoteliers.  The meeting are in partnership with our partners at the Texas Hotel and Lodging Association (THLA).
X-ALT-DESC;FMTTYPE=text/html:The Weslaco Chamber hosts quarterly Hotelier Meetings for our Mid-Valley Hoteliers.&nbsp\; The meeting are in partnership with our partners at the Texas Hotel and Lodging Association (THLA).&nbsp\; &nbsp\;
LOCATION:Weslaco Chamber/Business Visitors and Event Center 275 S. Kansas Weslaco\, TX 78596
UID:e.1244.20561
SEQUENCE:3
DTSTAMP:20260422T032900Z
URL:https://business.weslaco.com/events/details/mid-valley-hotelier-quarterly-luncheon-20561
END:VEVENT

END:VCALENDAR
