BEGIN:VCALENDAR
VERSION:2.0
PRODID:-//ChamberMaster//Event Calendar 2.0//EN
METHOD:PUBLISH
X-PUBLISHED-TTL:P3D
REFRESH-INTERVAL:P3D
CALSCALE:GREGORIAN
BEGIN:VEVENT
DTSTART:20220707T170000Z
DTEND:20220707T180000Z
X-MICROSOFT-CDO-ALLDAYEVENT:FALSE
SUMMARY:Mid-Valley Hotelier Quarterly Luncheon
DESCRIPTION:The Weslaco Chamber hosts quarterly Hotelier Meetings for our Mid-Valley Hoteliers.  The meeting are in partnership with our partners at the Texas Hotel and Lodging Association (THLA).
X-ALT-DESC;FMTTYPE=text/html:<span style="color: rgb(102\, 102\, 102)\; font-family: Arial\, Helvetica\, Verdana\, sans-serif\; font-size: 16px\;">The Weslaco Chamber hosts quarterly Hotelier Meetings for our Mid-Valley Hoteliers.&nbsp\; The meeting are in partnership with our partners at the Texas Hotel and Lodging Association (THLA).&nbsp\;&nbsp\;</span>
LOCATION:Weslaco Chamber/Business Visitors and Event Center 275 S. Kansas Weslaco\, TX 78596
UID:e.1244.20565
SEQUENCE:3
DTSTAMP:20260421T135100Z
URL:https://business.weslaco.com/events/details/mid-valley-hotelier-quarterly-luncheon-20565
END:VEVENT

END:VCALENDAR
