BEGIN:VCALENDAR
VERSION:2.0
PRODID:-//ChamberMaster//Event Calendar 2.0//EN
METHOD:PUBLISH
X-PUBLISHED-TTL:P3D
REFRESH-INTERVAL:P3D
CALSCALE:GREGORIAN
BEGIN:VEVENT
DTSTART:20151219T003000Z
DTEND:20151219T020000Z
X-MICROSOFT-CDO-ALLDAYEVENT:FALSE
SUMMARY:Mid Valley Lighted Christmas Parade
DESCRIPTION:Mid-Valley Lighted Christmas Parade - Christmas in Lego Land!\n\nCome enjoy lighted floats strolling down Texas Blvd!
X-ALT-DESC;FMTTYPE=text/html:Mid-Valley Lighted Christmas Parade - Christmas in Lego Land!<br />\nCome enjoy lighted floats strolling down Texas Blvd!
LOCATION:Texas Blvd. between Pike and 6th Street
UID:e.1244.9059
SEQUENCE:3
DTSTAMP:20260423T065843Z
URL:https://business.weslaco.com/events/details/mid-valley-lighted-christmas-parade-12-18-2015-9059
END:VEVENT

END:VCALENDAR
