BEGIN:VCALENDAR
VERSION:2.0
PRODID:-//ChamberMaster//Event Calendar 2.0//EN
METHOD:PUBLISH
X-PUBLISHED-TTL:P3D
REFRESH-INTERVAL:P3D
CALSCALE:GREGORIAN
BEGIN:VEVENT
DTSTART:20181209T000000Z
DTEND:20181209T030000Z
X-MICROSOFT-CDO-ALLDAYEVENT:FALSE
SUMMARY:Mid Valley Lighted Christmas Parade 2018
DESCRIPTION:Mid-Valley Lighted Christmas Parade - A Very Disney Christmas\n\nCome enjoy lighted floats strolling down Texas Blvd!
X-ALT-DESC;FMTTYPE=text/html:Mid-Valley Lighted Christmas Parade - A Very Disney Christmas<br />\nCome enjoy lighted floats strolling down Texas Blvd!<br />\n&nbsp\;
LOCATION:Texas Blvd. between Pike and 6th Street
UID:e.1244.17001
SEQUENCE:3
DTSTAMP:20260420T194347Z
URL:https://business.weslaco.com/events/details/mid-valley-lighted-christmas-parade-2018-17001
END:VEVENT

END:VCALENDAR
