BEGIN:VCALENDAR
VERSION:2.0
PRODID:-//ChamberMaster//Event Calendar 2.0//EN
METHOD:PUBLISH
X-PUBLISHED-TTL:P3D
REFRESH-INTERVAL:P3D
CALSCALE:GREGORIAN
BEGIN:VEVENT
DTSTART:20151205T170000Z
DTEND:20151205T200000Z
X-MICROSOFT-CDO-ALLDAYEVENT:FALSE
SUMMARY:Mid Valley Lions Club Christmas Toy Drive
DESCRIPTION:Come bring new\, unwrapped toys for the kids and enjoy a free hot dog!  Chicken plates will also be sold for $6 to support the flood victims of Weslaco.
X-ALT-DESC;FMTTYPE=text/html:Come bring new\, unwrapped toys for the kids and enjoy a free hot dog! &nbsp\;Chicken plates will also be sold for $6 to support the flood victims of Weslaco.&nbsp\;
LOCATION:Water Colors 521 E. Business 83
UID:e.1244.9061
SEQUENCE:3
DTSTAMP:20260423T070403Z
URL:https://business.weslaco.com/events/details/mid-valley-lions-club-christmas-toy-drive-12-05-2015-9061
END:VEVENT

END:VCALENDAR
