BEGIN:VCALENDAR
VERSION:2.0
PRODID:-//ChamberMaster//Event Calendar 2.0//EN
METHOD:PUBLISH
X-PUBLISHED-TTL:P3D
REFRESH-INTERVAL:P3D
CALSCALE:GREGORIAN
BEGIN:VEVENT
DTSTART:20170427T133000Z
DTEND:20170427T153000Z
X-MICROSOFT-CDO-ALLDAYEVENT:FALSE
SUMMARY:Mid Valley Meet the Buyer Procurement Seminar
DESCRIPTION:Mid Valley Meet the Buyer Procurement Seminar - A Business Opportunity Forum sponsored by HEB\, Law Office of Diana Fuentes-Aguilar\, Eric Garcia- Allstate Agent\, South Texas Federal Credit Union. Participating agencies include Hidalgo County\, STC\, US Small Business Administration\, and Weslaco ISD. Sponsored by Weslaco EDC and UTRGV
X-ALT-DESC;FMTTYPE=text/html:Mid Valley Meet the Buyer Procurement Seminar - A Business Opportunity Forum sponsored by HEB\, Law Office of Diana Fuentes-Aguilar\, Eric Garcia- Allstate Agent\, South Texas Federal Credit Union. Participating agencies include Hidalgo County\, STC\, US Small Business Administration\, and Weslaco ISD. Sponsored by Weslaco EDC and UTRGV
LOCATION:Weslaco Business Visitor & Event Center 275 S. Kansas Ave
UID:e.1244.11960
SEQUENCE:3
DTSTAMP:20260422T052923Z
URL:https://business.weslaco.com/events/details/mid-valley-meet-the-buyer-procurement-seminar-11960
END:VEVENT

END:VCALENDAR
