BEGIN:VCALENDAR
VERSION:2.0
PRODID:-//ChamberMaster//Event Calendar 2.0//EN
METHOD:PUBLISH
X-PUBLISHED-TTL:P3D
REFRESH-INTERVAL:P3D
CALSCALE:GREGORIAN
BEGIN:VEVENT
DTSTART:20171114T143000Z
DTEND:20171114T170000Z
X-MICROSOFT-CDO-ALLDAYEVENT:FALSE
SUMMARY:Mid Valley Meet the Buyer Procurement Seminar
DESCRIPTION:Mid Valley Meet the Buyer Procurement Seminar - A Business Opportunity Forum sponsored by Montalvo Insurance\, Famsa and Aldana Engineering and Traffic Design. Participating agencies include IDEA\, City of Weslaco\, Lower RGV Development Council\, U.S. Customs and Border Protection and Texas Workforce Solutions. Sponsored by Weslaco EDC and UTRGV
X-ALT-DESC;FMTTYPE=text/html:Mid Valley Meet the Buyer Procurement Seminar - A Business Opportunity Forum sponsored by Montalvo Insurance\, Famsa and Aldana Engineering and Traffic Design. Participating agencies include IDEA\, City of Weslaco\, Lower RGV Development Council\, U.S. Customs and Border Protection and Texas Workforce Solutions. Sponsored by Weslaco EDC and UTRGV
LOCATION:Weslaco Business Visitor & Event Center 275 S. Kansas Ave
UID:e.1244.14437
SEQUENCE:3
DTSTAMP:20260421T172613Z
URL:https://business.weslaco.com/events/details/mid-valley-meet-the-buyer-procurement-seminar-14437
END:VEVENT

END:VCALENDAR
