BEGIN:VCALENDAR
VERSION:2.0
PRODID:-//ChamberMaster//Event Calendar 2.0//EN
METHOD:PUBLISH
X-PUBLISHED-TTL:P3D
REFRESH-INTERVAL:P3D
CALSCALE:GREGORIAN
BEGIN:VEVENT
DTSTART:20161130T230000Z
DTEND:20161201T010000Z
X-MICROSOFT-CDO-ALLDAYEVENT:FALSE
SUMMARY:Mid Valley Nursing and Rehab Ribbon Cutting
DESCRIPTION:
X-ALT-DESC;FMTTYPE=text/html:
LOCATION:
UID:e.1244.11489
SEQUENCE:3
DTSTAMP:20260422T151453Z
URL:https://business.weslaco.com/events/details/mid-valley-nursing-and-rehab-ribbon-cutting-11489
END:VEVENT

END:VCALENDAR
