BEGIN:VCALENDAR
VERSION:2.0
PRODID:-//ChamberMaster//Event Calendar 2.0//EN
METHOD:PUBLISH
X-PUBLISHED-TTL:P3D
REFRESH-INTERVAL:P3D
CALSCALE:GREGORIAN
BEGIN:VEVENT
DTSTART:20160220T190000Z
DTEND:20160220T210000Z
X-MICROSOFT-CDO-ALLDAYEVENT:FALSE
SUMMARY:Miss Texas Onion Fest Pageant
DESCRIPTION:
X-ALT-DESC;FMTTYPE=text/html:
LOCATION:Weslaco ISD Performing Arts Center
UID:e.1244.9122
SEQUENCE:3
DTSTAMP:20260423T052423Z
URL:https://business.weslaco.com/events/details/miss-texas-onion-fest-pageant-02-20-2016-9122
END:VEVENT

END:VCALENDAR
