BEGIN:VCALENDAR
VERSION:2.0
PRODID:-//ChamberMaster//Event Calendar 2.0//EN
METHOD:PUBLISH
X-PUBLISHED-TTL:P3D
REFRESH-INTERVAL:P3D
CALSCALE:GREGORIAN
BEGIN:VEVENT
DTSTART:20160221T000000Z
DTEND:20160221T030000Z
X-MICROSOFT-CDO-ALLDAYEVENT:FALSE
SUMMARY:Miss Weslaco and Little Miss Weslaco Pageant
DESCRIPTION:
X-ALT-DESC;FMTTYPE=text/html:
LOCATION:Weslaco ISD Performing Arts Center
UID:e.1244.9123
SEQUENCE:3
DTSTAMP:20260423T054314Z
URL:https://business.weslaco.com/events/details/miss-weslaco-and-little-miss-weslaco-pageant-02-20-2016-9123
END:VEVENT

END:VCALENDAR
