BEGIN:VCALENDAR
VERSION:2.0
PRODID:-//ChamberMaster//Event Calendar 2.0//EN
METHOD:PUBLISH
X-PUBLISHED-TTL:P3D
REFRESH-INTERVAL:P3D
CALSCALE:GREGORIAN
BEGIN:VEVENT
DTSTART:20170521T200000Z
DTEND:20170521T230000Z
X-MICROSOFT-CDO-ALLDAYEVENT:FALSE
SUMMARY:Miss Weslaco's Ball for a Cure
DESCRIPTION:Miss Weslaco is hosting a fundraiser ball to benefit the American Cancer Society. Girls of all ages are invited. The theme is princess for a day and everyone gets to dress up!! There will be a meal provided and a small dance and games.
X-ALT-DESC;FMTTYPE=text/html:Miss Weslaco is hosting a fundraiser ball to benefit the American Cancer Society. Girls of all ages are invited. The theme is princess for a day and everyone gets to dress up!! There will be a meal provided and a small dance and games.
LOCATION:Villa de Cortez 260 S. Texas Blvd.
UID:e.1244.12035
SEQUENCE:3
DTSTAMP:20260422T033010Z
URL:https://business.weslaco.com/events/details/miss-weslaco-s-ball-for-a-cure-12035
END:VEVENT

END:VCALENDAR
