BEGIN:VCALENDAR
VERSION:2.0
PRODID:-//ChamberMaster//Event Calendar 2.0//EN
METHOD:PUBLISH
X-PUBLISHED-TTL:P3D
REFRESH-INTERVAL:P3D
CALSCALE:GREGORIAN
BEGIN:VEVENT
DTSTART:20200131T150000Z
DTEND:20200131T210000Z
X-MICROSOFT-CDO-ALLDAYEVENT:FALSE
SUMMARY:Mobile Blood Drive at Knapp Medical Center
DESCRIPTION:Calling all heroes! With an urgent need for blood across South Texas\, your help is greatly needed! By donating blood\, you can help save the lives of children who have cancer and other conditions\, as well as victims of car accidents and other traumatic injuries. A blood drive will be held in Weslaco on Friday\, January 31st\, from 9 a.m. to 3 p.m. at Knapp Medical Center\, 1408 E. 8th Street\, Weslaco.\n\n\nTo thank you for your life-giving blood donation\, all presenting donors will receive a very cool and cozy long-sleeve T-shirt   which will officially commemorate your unselfish gift of life at the beginning of this new year!\n\nPlease schedule your appointment to donate blood on Jan. 31 by calling Michael Swartz of Knapp Medical Center's Marketing Department at 956-973-5142\, or e-mail MSwartz@PrimeHealthCare.com.\n\nMany thanks to all the blood donor heroes in our community who are helping these children and other patients during their time of greatest need !
X-ALT-DESC;FMTTYPE=text/html:<p style="margin: 0px 0px 6px\; font-family: Helvetica\, Arial\, sans-serif\; color: rgb(29\, 33\, 41)\; font-size: 14px\;">Calling all heroes! With an urgent need for blood across South Texas\, your help is greatly needed! By donating blood\, you can help save the lives of children who have cancer and other conditions\, as well as victims of car accidents and other traumatic injuries. A blood drive will be held in Weslaco on Friday\, January 31st\, from 9 a.m. to 3 p.m. at Knapp Medical Center\,&nbsp\;<span class="text_exposed_show" style="display: inline\; font-family: inherit\;">1408 E. 8th Street\, Weslaco.</span></p>\n\n<div class="text_exposed_show" style="display: inline\; font-family: Helvetica\, Arial\, sans-serif\; color: rgb(29\, 33\, 41)\; font-size: 14px\;">\n<p style="margin: 0px 0px 6px\; font-family: inherit\;">To thank you for your life-giving blood donation\, all presenting donors will receive a very cool and cozy long-sleeve T-shirt &hellip\; which will officially commemorate your unselfish gift of life at the beginning of this new year!</p>\n\n<p style="margin: 6px 0px\; font-family: inherit\;">Please schedule your appointment to donate blood on Jan. 31 by calling Michael Swartz of Knapp Medical Center&rsquo\;s Marketing Department at 956-973-5142\, or e-mail MSwartz@PrimeHealthCare.com.</p>\n\n<p style="margin: 6px 0px\; font-family: inherit\;">Many thanks to all the blood donor heroes in our community who are helping these children and other patients during their time of greatest need !</p>\n</div>\n
LOCATION:Knapp Medical Conference Center 1408 E. 8th Street\, Weslaco
UID:e.1244.19300
SEQUENCE:3
DTSTAMP:20260419T215408Z
URL:https://business.weslaco.com/events/details/mobile-blood-drive-at-knapp-medical-center-19300
END:VEVENT

END:VCALENDAR
