BEGIN:VCALENDAR
VERSION:2.0
PRODID:-//ChamberMaster//Event Calendar 2.0//EN
METHOD:PUBLISH
X-PUBLISHED-TTL:P3D
REFRESH-INTERVAL:P3D
CALSCALE:GREGORIAN
BEGIN:VEVENT
DTSTART:20131024T230000Z
DTEND:20131025T010000Z
X-MICROSOFT-CDO-ALLDAYEVENT:FALSE
SUMMARY:Montalvo Insurance 60th Anniversary Mixer
DESCRIPTION:
X-ALT-DESC;FMTTYPE=text/html:
LOCATION:208 S. Texas Blvd.
UID:e.1244.4784
SEQUENCE:3
DTSTAMP:20260425T023501Z
URL:https://business.weslaco.com/events/details/montalvo-insurance-60th-anniversary-mixer-10-24-2013-4784
END:VEVENT

END:VCALENDAR
