BEGIN:VCALENDAR
VERSION:2.0
PRODID:-//ChamberMaster//Event Calendar 2.0//EN
METHOD:PUBLISH
X-PUBLISHED-TTL:P3D
REFRESH-INTERVAL:P3D
CALSCALE:GREGORIAN
BEGIN:VEVENT
DTSTART:20191003T150000Z
DTEND:20191003T170000Z
X-MICROSOFT-CDO-ALLDAYEVENT:FALSE
SUMMARY:More Deductions this Tax Season: Business with Pleasure
DESCRIPTION:The San Benito Chamber of Commerce invites you to a free tax seminar series\, presented by Wycotax free e$timax.\n\n\n\nAttend the Business Made Easier for Small Businesses workshop to learn:\n\n- Convert personal to business expense \n\n- IRS definition of business V. hobby\n\n- How vacations can be tax-deductible \n\n\n\nThis is 4 of 4 workshops in the series that will be held every Thursday in October at the San Benito Chamber of Commerce from 10 AM to 11 AM.\n\n\n\nNO COST with RSVP: http://bit.ly/2m7zE3V
X-ALT-DESC;FMTTYPE=text/html:<span style="color:rgb(29\, 33\, 41)\; font-family:system-ui\,-apple-system\,system-ui\,.sfnstext-regular\,sans-serif\; font-size:14px">The San Benito Chamber of Commerce invites you to a free tax seminar series\, presented by </span><a href="https://www.facebook.com/wycotax/" style="color: rgb(56\, 88\, 152)\; cursor: pointer\; text-decoration: none\; font-family: system-ui\, -apple-system\, system-ui\, &quot\;.SFNSText-Regular&quot\;\, sans-serif\; font-size: 14px\; font-variant-ligatures: normal\; orphans: 2\; white-space: pre-wrap\; widows: 2\;" target="_blank">Wycotax free e$timax</a><span style="color:rgb(29\, 33\, 41)\; font-family:system-ui\,-apple-system\,system-ui\,.sfnstext-regular\,sans-serif\; font-size:14px">.</span><br />\n<br />\n<span style="color:rgb(29\, 33\, 41)\; font-family:system-ui\,-apple-system\,system-ui\,.sfnstext-regular\,sans-serif\; font-size:14px">Attend the Business Made Easier for Small Businesses workshop to learn:</span><br />\n<span style="color:rgb(29\, 33\, 41)\; font-family:system-ui\,-apple-system\,system-ui\,.sfnstext-regular\,sans-serif\; font-size:14px">- Convert personal to business expense </span><br />\n<span style="color:rgb(29\, 33\, 41)\; font-family:system-ui\,-apple-system\,system-ui\,.sfnstext-regular\,sans-serif\; font-size:14px">- IRS definition of business V. hobby</span><br />\n<span style="color:rgb(29\, 33\, 41)\; font-family:system-ui\,-apple-system\,system-ui\,.sfnstext-regular\,sans-serif\; font-size:14px">- How vacations can be tax-deductible </span><br />\n<br />\n<span style="color:rgb(29\, 33\, 41)\; font-family:system-ui\,-apple-system\,system-ui\,.sfnstext-regular\,sans-serif\; font-size:14px">This is 4 of 4 workshops in the series that will be held every Thursday in October at the San Benito Chamber of Commerce from 10 AM to 11 AM.</span><br />\n<br />\n<span style="color:rgb(29\, 33\, 41)\; font-family:system-ui\,-apple-system\,system-ui\,.sfnstext-regular\,sans-serif\; font-size:14px">NO COST with RSVP: </span><a href="https://bit.ly/2m7zE3V?fbclid=IwAR1sXvgZ7BNooe13YM_CamrpvaLeIgOCmmFe_37oM3kWx1NA-0UyKJWveDU" rel="nofollow noopener" style="color: rgb(56\, 88\, 152)\; cursor: pointer\; text-decoration: none\; font-family: system-ui\, -apple-system\, system-ui\, &quot\;.SFNSText-Regular&quot\;\, sans-serif\; font-size: 14px\; font-variant-ligatures: normal\; orphans: 2\; white-space: pre-wrap\; widows: 2\;" target="_blank">http://bit.ly/2m7zE3V</a>
LOCATION:San Benito Chamber of Commerce 223 S Sam Houston Blvd\, San Benito\, Texas 78586
UID:e.1244.18774
SEQUENCE:3
DTSTAMP:20260420T032213Z
URL:https://business.weslaco.com/events/details/more-deductions-this-tax-season-business-with-pleasure-18774
END:VEVENT

END:VCALENDAR
