BEGIN:VCALENDAR
VERSION:2.0
PRODID:-//ChamberMaster//Event Calendar 2.0//EN
METHOD:PUBLISH
X-PUBLISHED-TTL:P3D
REFRESH-INTERVAL:P3D
CALSCALE:GREGORIAN
BEGIN:VEVENT
DTSTART:20170309T143000Z
DTEND:20170309T153000Z
X-MICROSOFT-CDO-ALLDAYEVENT:FALSE
SUMMARY:Morning BIrd Walks with Ernest Herrera at Frontera Audubon
DESCRIPTION:
X-ALT-DESC;FMTTYPE=text/html:
LOCATION:Frontera Audubon 1101 S. Texas Blvd.
UID:e.1244.11545
SEQUENCE:3
DTSTAMP:20260422T084432Z
URL:https://business.weslaco.com/events/details/morning-bird-walks-with-ernest-herrera-at-frontera-audubon-03-09-2017-11545
END:VEVENT

END:VCALENDAR
