BEGIN:VCALENDAR
VERSION:2.0
PRODID:-//ChamberMaster//Event Calendar 2.0//EN
METHOD:PUBLISH
X-PUBLISHED-TTL:P3D
REFRESH-INTERVAL:P3D
CALSCALE:GREGORIAN
BEGIN:VEVENT
DTSTART:20140122T133000Z
DTEND:20140122T150000Z
X-MICROSOFT-CDO-ALLDAYEVENT:FALSE
SUMMARY:Morning Meet Up
DESCRIPTION:Join us for breakfast and networking.
X-ALT-DESC;FMTTYPE=text/html:Join us for breakfast and networking. &nbsp\;&nbsp\;
LOCATION:Knapp Medical Center 1401 E. Eighth St.
UID:e.1244.5061
SEQUENCE:3
DTSTAMP:20260424T212052Z
URL:https://business.weslaco.com/events/details/morning-meet-up-01-22-2014-5061
END:VEVENT

END:VCALENDAR
