BEGIN:VCALENDAR
VERSION:2.0
PRODID:-//ChamberMaster//Event Calendar 2.0//EN
METHOD:PUBLISH
X-PUBLISHED-TTL:P3D
REFRESH-INTERVAL:P3D
CALSCALE:GREGORIAN
BEGIN:VEVENT
DTSTART:20131023T123000Z
DTEND:20131023T140000Z
X-MICROSOFT-CDO-ALLDAYEVENT:FALSE
SUMMARY:Morning Meet Up
DESCRIPTION:Sponsored by Victoria Palms Inn & Suites
X-ALT-DESC;FMTTYPE=text/html:Sponsored by Victoria Palms Inn &amp\; Suites
LOCATION:Victoria Palms Inn & Suites
UID:e.1244.4755
SEQUENCE:3
DTSTAMP:20260425T023122Z
URL:https://business.weslaco.com/events/details/morning-meet-up-10-23-2013-4755
END:VEVENT

END:VCALENDAR
