BEGIN:VCALENDAR
VERSION:2.0
PRODID:-//ChamberMaster//Event Calendar 2.0//EN
METHOD:PUBLISH
X-PUBLISHED-TTL:P3D
REFRESH-INTERVAL:P3D
CALSCALE:GREGORIAN
BEGIN:VEVENT
DTSTART:20170809T123000Z
DTEND:20170809T140000Z
X-MICROSOFT-CDO-ALLDAYEVENT:FALSE
SUMMARY:Morning Meet Up
DESCRIPTION:Breakfast networking event. $5 for members\, $10 for non-members.
X-ALT-DESC;FMTTYPE=text/html:Breakfast networking event. $5 for members\, $10 for non-members.
LOCATION:Chick-fil-A Weslaco
UID:e.1244.12778
SEQUENCE:3
DTSTAMP:20260421T220145Z
URL:https://business.weslaco.com/events/details/morning-meet-up-12778
END:VEVENT

END:VCALENDAR
