BEGIN:VCALENDAR
VERSION:2.0
PRODID:-//ChamberMaster//Event Calendar 2.0//EN
METHOD:PUBLISH
X-PUBLISHED-TTL:P3D
REFRESH-INTERVAL:P3D
CALSCALE:GREGORIAN
BEGIN:VEVENT
DTSTART:20180524T123000Z
DTEND:20180524T140000Z
X-MICROSOFT-CDO-ALLDAYEVENT:FALSE
SUMMARY:Morning Meet Up at Chef's Corner Cafe
DESCRIPTION:Breakfast and networking event featuring guest speaker Fire Chief/Emergency Management Coordinator Antonio Lopez for the City of Weslaco. Chief Lopez will be discussing the city's improved fire class rating and what it means for business owners.
X-ALT-DESC;FMTTYPE=text/html:Breakfast and networking event featuring guest speaker Fire Chief/Emergency Management Coordinator Antonio Lopez for the City of Weslaco. Chief Lopez will be discussing the city&#39\;s improved fire class rating and what it means for business owners.
LOCATION:Chef's Corner Cafe 918 S. Utah Weslaco
UID:e.1244.16892
SEQUENCE:3
DTSTAMP:20260421T075051Z
URL:https://business.weslaco.com/events/details/morning-meet-up-at-chef-s-corner-cafe-16892
END:VEVENT

END:VCALENDAR
