BEGIN:VCALENDAR
VERSION:2.0
PRODID:-//ChamberMaster//Event Calendar 2.0//EN
METHOD:PUBLISH
X-PUBLISHED-TTL:P3D
REFRESH-INTERVAL:P3D
CALSCALE:GREGORIAN
BEGIN:VEVENT
DTSTART:20160504T123000Z
DTEND:20160504T140000Z
X-MICROSOFT-CDO-ALLDAYEVENT:FALSE
SUMMARY:Morning Meet Up at IHOP
DESCRIPTION:Breakfast and networking event sponsored by STHS ER at Weslaco.  Don't forget the business cards for networking before and after the event!
X-ALT-DESC;FMTTYPE=text/html:Breakfast and networking event sponsored by STHS ER at Weslaco. &nbsp\;Don&#39\;t forget the business cards for networking before and after the event!
LOCATION:IHOP 2201 W. Expressway 83 Weslaco
UID:e.1244.10947
SEQUENCE:3
DTSTAMP:20260423T005637Z
URL:https://business.weslaco.com/events/details/morning-meet-up-at-ihop-05-04-2016-10947
END:VEVENT

END:VCALENDAR
