BEGIN:VCALENDAR
VERSION:2.0
PRODID:-//ChamberMaster//Event Calendar 2.0//EN
METHOD:PUBLISH
X-PUBLISHED-TTL:P3D
REFRESH-INTERVAL:P3D
CALSCALE:GREGORIAN
BEGIN:VEVENT
DTSTART:20180215T133000Z
DTEND:20180215T150000Z
X-MICROSOFT-CDO-ALLDAYEVENT:FALSE
SUMMARY:Morning Meet Up at Weslaco's Daily Grind
DESCRIPTION:Breakfast networking event. $5 for members\, $10 for non-members.
X-ALT-DESC;FMTTYPE=text/html:Breakfast networking event. $5 for members\, $10 for non-members.
LOCATION:Weslaco's Daily Grind 409 S. Missouri
UID:e.1244.15747
SEQUENCE:3
DTSTAMP:20260421T142654Z
URL:https://business.weslaco.com/events/details/morning-meet-up-at-weslaco-s-daily-grind-15747
END:VEVENT

END:VCALENDAR
