BEGIN:VCALENDAR
VERSION:2.0
PRODID:-//ChamberMaster//Event Calendar 2.0//EN
METHOD:PUBLISH
X-PUBLISHED-TTL:P3D
REFRESH-INTERVAL:P3D
CALSCALE:GREGORIAN
BEGIN:VEVENT
DTSTART:20180814T123000Z
DTEND:20180814T140000Z
X-MICROSOFT-CDO-ALLDAYEVENT:FALSE
SUMMARY:Morning Meet Up at Weslaco's Daily Grind
DESCRIPTION:Join us for breakfast and networking as we hear from guest speaker Corey Williams\, Public Information Officer for the U.S. Small Business Administration. Corey will present an overview of the U.S. Small Business Administration and talk about  federal disaster loans for businesses of all sizes\, private nonprofits\, homeowners and renters.
X-ALT-DESC;FMTTYPE=text/html:<span style="font-size:14px\;">Join us for breakfast and networking as we hear from guest speaker Corey Williams\, Public Information Officer for the U.S. Small Business Administration. Corey will present an overview of the U.S. Small Business Administration a<span style="font-family:arial\;">nd talk about&nbsp\; federal disaster loans for businesses of all sizes\, private nonprofits\, homeowners and renters.</span></span>
LOCATION:Weslaco's Daily Grind 409 S. Missouri Ave.
UID:e.1244.16954
SEQUENCE:3
DTSTAMP:20260421T025633Z
URL:https://business.weslaco.com/events/details/morning-meet-up-at-weslaco-s-daily-grind-16954
END:VEVENT

END:VCALENDAR
