BEGIN:VCALENDAR
VERSION:2.0
PRODID:-//ChamberMaster//Event Calendar 2.0//EN
METHOD:PUBLISH
X-PUBLISHED-TTL:P3D
REFRESH-INTERVAL:P3D
CALSCALE:GREGORIAN
BEGIN:VEVENT
DTSTART:20180919T123000Z
DTEND:20180919T140000Z
X-MICROSOFT-CDO-ALLDAYEVENT:FALSE
SUMMARY:Morning Meet Up at Weslaco's Daily Grind
DESCRIPTION:Join us for breakfast and networking as we hear from special guest Weslaco Police Chief Joel Rivera.
X-ALT-DESC;FMTTYPE=text/html:<span style="font-size:14px\;">Join us for breakfast and networking as we hear from special guest Weslaco Police Chief Joel Rivera.</span>
LOCATION:Weslaco's Daily Grind 409 S. Missouri Ave.
UID:e.1244.16970
SEQUENCE:3
DTSTAMP:20260421T005848Z
URL:https://business.weslaco.com/events/details/morning-meet-up-at-weslaco-s-daily-grind-16970
END:VEVENT

END:VCALENDAR
