BEGIN:VCALENDAR
VERSION:2.0
PRODID:-//ChamberMaster//Event Calendar 2.0//EN
METHOD:PUBLISH
X-PUBLISHED-TTL:P3D
REFRESH-INTERVAL:P3D
CALSCALE:GREGORIAN
BEGIN:VEVENT
DTSTART:20140325T123000Z
DTEND:20140325T140000Z
X-MICROSOFT-CDO-ALLDAYEVENT:FALSE
SUMMARY:Morning Meet Up sponsored by The Eye Experts
DESCRIPTION:Join us for breakfast and networking at The Eye Experts!
X-ALT-DESC;FMTTYPE=text/html:Join us for breakfast and networking at The Eye Experts! &nbsp\;&nbsp\;&nbsp\;&nbsp\;&nbsp\;&nbsp\;&nbsp\;&nbsp\;&nbsp\;
LOCATION:The Eye Experts 1315 E. 6th St. Ste. 5 (Knapp Medical Plaza on Business 83)
UID:e.1244.5884
SEQUENCE:3
DTSTAMP:20260424T193723Z
URL:https://business.weslaco.com/events/details/morning-meet-up-sponsored-by-the-eye-experts-03-25-2014-5884
END:VEVENT

END:VCALENDAR
