BEGIN:VCALENDAR
VERSION:2.0
PRODID:-//ChamberMaster//Event Calendar 2.0//EN
METHOD:PUBLISH
X-PUBLISHED-TTL:P3D
REFRESH-INTERVAL:P3D
CALSCALE:GREGORIAN
BEGIN:VEVENT
DTSTART:20180512T163000Z
DTEND:20180512T183000Z
X-MICROSOFT-CDO-ALLDAYEVENT:FALSE
SUMMARY:Mother/Daughter Luncheon at Weslaco Museum
DESCRIPTION:Enjoy this special day at the Weslaco Museum! Lunch with mom\, fashion show by Lionel's Boutique and Wells of Weslaco. Chamber music by WISD students. Tickets are $20 per person and may be purchased at the Museum.
X-ALT-DESC;FMTTYPE=text/html:Enjoy this special day at the Weslaco Museum! Lunch with mom\, fashion show by Lionel&#39\;s Boutique and Wells of Weslaco. Chamber music by WISD students. Tickets are $20 per person and may be purchased at the Museum.&nbsp\;
LOCATION:Weslaco Museum 500 S. Texas
UID:e.1244.16863
SEQUENCE:3
DTSTAMP:20260421T075800Z
URL:https://business.weslaco.com/events/details/mother-daughter-luncheon-at-weslaco-museum-16863
END:VEVENT

END:VCALENDAR
