BEGIN:VCALENDAR
VERSION:2.0
PRODID:-//ChamberMaster//Event Calendar 2.0//EN
METHOD:PUBLISH
X-PUBLISHED-TTL:P3D
REFRESH-INTERVAL:P3D
CALSCALE:GREGORIAN
BEGIN:VEVENT
DTSTART:20140503T190000Z
DTEND:20140503T220000Z
X-MICROSOFT-CDO-ALLDAYEVENT:FALSE
SUMMARY:Mother/Daughter Tea Time at Weslaco Museum
DESCRIPTION:Enjoy this special day at the Weslaco Museum! Tea\, pastries and sandwiches will be served.  There will be Mary Kay makeovers\, etiquette lesson\, fashion show\, and photos.  Tickets are $8 each and may be purchased at the Museum.
X-ALT-DESC;FMTTYPE=text/html:Enjoy this special day at the Weslaco Museum! Tea\, pastries and sandwiches will be served. &nbsp\;There will be Mary Kay makeovers\, etiquette lesson\, fashion show\, and photos. &nbsp\;Tickets are $8 each and may be purchased at the Museum.&nbsp\;
LOCATION:Weslaco Museum 500 S. Texas
UID:e.1244.5892
SEQUENCE:3
DTSTAMP:20260424T142138Z
URL:https://business.weslaco.com/events/details/mother-daughter-tea-time-at-weslaco-museum-05-03-2014-5892
END:VEVENT

END:VCALENDAR
