BEGIN:VCALENDAR
VERSION:2.0
PRODID:-//ChamberMaster//Event Calendar 2.0//EN
METHOD:PUBLISH
X-PUBLISHED-TTL:P3D
REFRESH-INTERVAL:P3D
CALSCALE:GREGORIAN
BEGIN:VEVENT
DTSTART:20170513T210000Z
DTEND:20170513T230000Z
X-MICROSOFT-CDO-ALLDAYEVENT:FALSE
SUMMARY:Mother's Day Session at Busy Bristles
DESCRIPTION:Treat your Mom to a masterpiece of Love you cannot find anywhere else. Make it special and paint away! \n\nFeatured work: "Love You Mom" - 11x14 canvas
X-ALT-DESC;FMTTYPE=text/html:<p><span class="x-el x-el-span x-pri-def x-f-pri-fam x-f-sz-md  "><span class="x-el x-el-div x-ntrl-alt x-f-alt-fam x-f-sz-md x-f-wt-bolder  ">Treat your Mom to a masterpiece of Love you cannot find anywhere else. Make it special and paint away!&nbsp\;<br />\nFeatured work: &quot\;Love You Mom&quot\; - 11x14 canvas</span></span></p>\n
LOCATION:Busy Bristles Art Studio 308A S. Texas Blvd. Weslaco
UID:e.1244.12024
SEQUENCE:3
DTSTAMP:20260422T051302Z
URL:https://business.weslaco.com/events/details/mother-s-day-session-at-busy-bristles-12024
END:VEVENT

END:VCALENDAR
