BEGIN:VCALENDAR
VERSION:2.0
PRODID:-//ChamberMaster//Event Calendar 2.0//EN
METHOD:PUBLISH
X-PUBLISHED-TTL:P3D
REFRESH-INTERVAL:P3D
CALSCALE:GREGORIAN
BEGIN:VEVENT
DTSTART:20190511T190000Z
DTEND:20190511T220000Z
X-MICROSOFT-CDO-ALLDAYEVENT:FALSE
SUMMARY:Movie Time at Mayor Joe V. Sanchez Public Library
DESCRIPTION:Inside the Children's Area
X-ALT-DESC;FMTTYPE=text/html:Inside the Children&#39\;s Area
LOCATION:Mayor Joe V. Sanchez Public Library 525 S. Kansas
UID:e.1244.18138
SEQUENCE:3
DTSTAMP:20260420T113626Z
URL:https://business.weslaco.com/events/details/movie-time-at-mayor-joe-v-sanchez-public-library-18138
END:VEVENT

END:VCALENDAR
