BEGIN:VCALENDAR
VERSION:2.0
PRODID:-//ChamberMaster//Event Calendar 2.0//EN
METHOD:PUBLISH
X-PUBLISHED-TTL:P3D
REFRESH-INTERVAL:P3D
CALSCALE:GREGORIAN
BEGIN:VEVENT
DTSTART:20161022T190000Z
DTEND:20161022T200000Z
X-MICROSOFT-CDO-ALLDAYEVENT:FALSE
SUMMARY:National Bullying Prevention Month with Special Guest Author Iona Cordero
DESCRIPTION:October is National Bullying Prevention Month! Please visit our Library to learn more about Bullying Prevention Awareness Month with special guest speaker and author Iona Cordero. Join us for story time and craft hour!
X-ALT-DESC;FMTTYPE=text/html:<span style="background-color:rgb(255\, 255\, 255)\; color:rgb(29\, 33\, 41)\; font-family:helvetica\,arial\,sans-serif\; font-size:14px">October is National Bullying Prevention Month! Please visit our Library to learn more about Bullying Prevention Awareness Month with special guest speaker and author Iona Cordero. Join us for story time and craft hour!</span>
LOCATION:Mayor Joe V. Sanchez Public Library
UID:e.1244.11035
SEQUENCE:3
DTSTAMP:20260422T151631Z
URL:https://business.weslaco.com/events/details/national-bullying-prevention-month-with-special-guest-author-iona-cordero-11035
END:VEVENT

END:VCALENDAR
