BEGIN:VCALENDAR
VERSION:2.0
PRODID:-//ChamberMaster//Event Calendar 2.0//EN
METHOD:PUBLISH
X-PUBLISHED-TTL:P3D
REFRESH-INTERVAL:P3D
CALSCALE:GREGORIAN
BEGIN:VEVENT
DTSTART:20141007T230000Z
DTEND:20141008T020000Z
X-MICROSOFT-CDO-ALLDAYEVENT:FALSE
SUMMARY:National Night Out
DESCRIPTION:The Weslaco Police Deparment and Weslaco Fire Department celebrate National Night Out. Join in on promoting crime and fire prevention through education\, public awareness and networking.  Come join in on this fun night for the community.
X-ALT-DESC;FMTTYPE=text/html:The Weslaco Police Deparment and Weslaco&nbsp\;Fire Department celebrate National Night Out. Join in on promoting crime and fire prevention through education\, public awareness and networking. &nbsp\;Come join in on this fun night for the community.
LOCATION:Weslaco City Hall 255 S. Kansas
UID:e.1244.5942
SEQUENCE:3
DTSTAMP:20260424T051258Z
URL:https://business.weslaco.com/events/details/national-night-out-10-07-2014-5942
END:VEVENT

END:VCALENDAR
