BEGIN:VCALENDAR
VERSION:2.0
PRODID:-//ChamberMaster//Event Calendar 2.0//EN
METHOD:PUBLISH
X-PUBLISHED-TTL:P3D
REFRESH-INTERVAL:P3D
CALSCALE:GREGORIAN
BEGIN:VEVENT
DTSTART:20140920T150000Z
DTEND:20140920T170000Z
X-MICROSOFT-CDO-ALLDAYEVENT:FALSE
SUMMARY:Native Plant Workshop at Frontera Audubon
DESCRIPTION:Robert Vanderveer will present "Landscaping with Natives\," a workshop on the basics of native plants and how to use them\, on Saturday\, September 20th at 10 am at Frontera Audubon (1101 S. Texas Blvd.) in Weslaco.\n\nHe will share some of his favorite plants that are not only useful and beneficial\, but also beautiful. Vanderveer will begin the workshop with a presentation featuring photos and descriptions of common and available native plants. A short demonstration featuring native plants will follow\, and Frontera will offer participants a free native plant to take home.
X-ALT-DESC;FMTTYPE=text/html:<span style="font-size:12px\;"><span style="font-family:arial\;">Robert&nbsp\;</span>Vanderveer will present &ldquo\;Landscaping with Natives\,&rdquo\; a workshop on the basics of native plants and how to use them\, on Saturday\, September 20<sup>th</sup> at 10 am at Frontera Audubon (1101 S. Texas Blvd.) in Weslaco.<br />\nHe will share some of his favorite plants that are not only useful and beneficial\, but also beautiful.&nbsp\;Vanderveer will begin the workshop with a presentation featuring photos and descriptions of common and available native plants. A short demonstration featuring native plants will follow\, and Frontera will offer participants a free native plant to take home.&nbsp\;</span>
LOCATION:1101 S. Texas
UID:e.1244.5944
SEQUENCE:3
DTSTAMP:20260424T070027Z
URL:https://business.weslaco.com/events/details/native-plant-workshop-at-frontera-audubon-09-20-2014-5944
END:VEVENT

END:VCALENDAR
