BEGIN:VCALENDAR
VERSION:2.0
PRODID:-//ChamberMaster//Event Calendar 2.0//EN
METHOD:PUBLISH
X-PUBLISHED-TTL:P3D
REFRESH-INTERVAL:P3D
CALSCALE:GREGORIAN
BEGIN:VEVENT
DTSTART:20160109T160000Z
DTEND:20160109T180000Z
X-MICROSOFT-CDO-ALLDAYEVENT:FALSE
SUMMARY:Native Plants with Ken King
DESCRIPTION:Join us for our weekly speaker series with the Valley's own Ken King. Coffee and pastries will be served.
X-ALT-DESC;FMTTYPE=text/html:Join us for our weekly speaker series with the Valley&#39\;s own Ken King. Coffee and pastries will be served.
LOCATION:Valley Nature Center 301 S. Border Avenue Weslaco\, Texas 78596
UID:e.1244.9090
SEQUENCE:3
DTSTAMP:20260423T052755Z
URL:https://business.weslaco.com/events/details/native-plants-with-ken-king-01-09-2016-9090
END:VEVENT

END:VCALENDAR
