BEGIN:VCALENDAR
VERSION:2.0
PRODID:-//ChamberMaster//Event Calendar 2.0//EN
METHOD:PUBLISH
X-PUBLISHED-TTL:P3D
REFRESH-INTERVAL:P3D
CALSCALE:GREGORIAN
BEGIN:VEVENT
DTSTART:20151205T140000Z
DTEND:20151205T180000Z
X-MICROSOFT-CDO-ALLDAYEVENT:FALSE
SUMMARY:Nature Chaser 5K Fun Trail Run/Walk at Estero Llano Grande
DESCRIPTION:Registration on the day of the race is from 6 am to 7:30 am\, $15.  First 75 registrants receive t-shirts.  Top 3 finishers in each division will be awarded!  This is a trail run so wear the proper shoes.  You can register online at https://mve.webconnex.com/trailrun2015
X-ALT-DESC;FMTTYPE=text/html:Registration on the day of the race is from 6 am to 7:30 am\, $15. &nbsp\;First 75&nbsp\;registrants receive t-shirts. &nbsp\;Top 3 finishers in each division will be awarded! &nbsp\;This is a trail run so wear the proper shoes. &nbsp\;You can register online at https://mve.webconnex.com/trailrun2015
LOCATION:Estero Llano Grande State Park 3301 S. International Blvd.
UID:e.1244.9056
SEQUENCE:3
DTSTAMP:20260423T084418Z
URL:https://business.weslaco.com/events/details/nature-chaser-5k-fun-trail-run-walk-at-estero-llano-grande-12-05-2015-9056
END:VEVENT

END:VCALENDAR
