BEGIN:VCALENDAR
VERSION:2.0
PRODID:-//ChamberMaster//Event Calendar 2.0//EN
METHOD:PUBLISH
X-PUBLISHED-TTL:P3D
REFRESH-INTERVAL:P3D
CALSCALE:GREGORIAN
BEGIN:VEVENT
DTSTART:20190717T133000Z
DTEND:20190717T153000Z
X-MICROSOFT-CDO-ALLDAYEVENT:FALSE
SUMMARY:Nature Hike at Estero Llano Grande State Park
DESCRIPTION:Free with park admission ($5 for adults\, children free)\, all ages and all skill levels\, no pets please. Family-friendly. Meet on the deck just outside the Visitor Center Park Store.
X-ALT-DESC;FMTTYPE=text/html:<span style="color: rgb(29\, 33\, 41)\; font-family: Helvetica\, Arial\, sans-serif\; font-size: 14px\; white-space: pre-wrap\;">Free with park admission ($5 for adults\, children free)\, all ages and all skill levels\, no pets please. Family-friendly. Meet on the deck just outside the Visitor Center Park Store.</span>
LOCATION:Estero Llano Grande State Park 3301 S. International Blvd. Weslaco
UID:e.1244.18703
SEQUENCE:3
DTSTAMP:20260420T080420Z
URL:https://business.weslaco.com/events/details/nature-hike-at-estero-llano-grande-state-park-18703
END:VEVENT

END:VCALENDAR
