BEGIN:VCALENDAR
VERSION:2.0
PRODID:-//ChamberMaster//Event Calendar 2.0//EN
METHOD:PUBLISH
X-PUBLISHED-TTL:P3D
REFRESH-INTERVAL:P3D
CALSCALE:GREGORIAN
BEGIN:VEVENT
DTSTART:20200112T203000Z
DTEND:20200112T223000Z
X-MICROSOFT-CDO-ALLDAYEVENT:FALSE
SUMMARY:Nature Photography
DESCRIPTION:
X-ALT-DESC;FMTTYPE=text/html:
LOCATION:Estero Llano Grande State Park 3301 S. International Blvd. Weslaco\, TX
UID:e.1244.19039
SEQUENCE:3
DTSTAMP:20260419T234107Z
URL:https://business.weslaco.com/events/details/nature-photography-01-12-2020-19039
END:VEVENT

END:VCALENDAR
