BEGIN:VCALENDAR
VERSION:2.0
PRODID:-//ChamberMaster//Event Calendar 2.0//EN
METHOD:PUBLISH
X-PUBLISHED-TTL:P3D
REFRESH-INTERVAL:P3D
CALSCALE:GREGORIAN
BEGIN:VEVENT
DTSTART:20150131T160000Z
DTEND:20150131T170000Z
X-MICROSOFT-CDO-ALLDAYEVENT:FALSE
SUMMARY:Nature Photography with Ruth Hoyt
DESCRIPTION:Ruth Hoyt\, Naturalist - Nature Photographer January 31\, 2015 10:00 am Ruth will be at Valley Nature Center presenting Nature Photography. We are looking forward to learning from one of the area's premier nature photographer's. Join us. Coffee and pastries will be served. Bring a friend. Bring your camera. The trails are waiting for you. Valley Nature Center 301 South Border Ave. Weslaco\, TX 78596 956-969-2475
X-ALT-DESC;FMTTYPE=text/html:Ruth Hoyt\, Naturalist - Nature Photographer January 31\, 2015 10:00&nbsp\;am Ruth will be at Valley Nature Center presenting Nature Photography. We are looking forward to learning from one of the area&#39\;s premier nature photographer&#39\;s. Join us. Coffee and pastries will be served. Bring a friend. Bring your camera. The trails are waiting for you. Valley Nature Center 301 South Border Ave. Weslaco\, TX 78596 956-969-2475
LOCATION:Valley Nature Center 301 South Border Ave. Weslaco\, Texas 78596
UID:e.1244.6020
SEQUENCE:3
DTSTAMP:20260424T002835Z
URL:https://business.weslaco.com/events/details/nature-photography-with-ruth-hoyt-01-31-2015-6020
END:VEVENT

END:VCALENDAR
