BEGIN:VCALENDAR
VERSION:2.0
PRODID:-//ChamberMaster//Event Calendar 2.0//EN
METHOD:PUBLISH
X-PUBLISHED-TTL:P3D
REFRESH-INTERVAL:P3D
CALSCALE:GREGORIAN
BEGIN:VEVENT
DTSTART:20190613T140000Z
DTEND:20190613T200000Z
X-MICROSOFT-CDO-ALLDAYEVENT:FALSE
SUMMARY:Nature Quest Camp At The Valley Nature Center
DESCRIPTION:Two meals will be provided daily\, plus snacks! Fridays are splash days in the pool!\n\nAges 8-9
X-ALT-DESC;FMTTYPE=text/html:Two meals will be provided daily\, plus snacks! Fridays are splash days in the pool!<br />\nAges 8-9
LOCATION:Valley Nature Center 301 S. Border Ave Weslaco Tx
UID:e.1244.18150
SEQUENCE:3
DTSTAMP:20260420T114038Z
URL:https://business.weslaco.com/events/details/nature-quest-camp-at-the-valley-nature-center-06-13-2019-18150
END:VEVENT

END:VCALENDAR
