BEGIN:VCALENDAR
VERSION:2.0
PRODID:-//ChamberMaster//Event Calendar 2.0//EN
METHOD:PUBLISH
X-PUBLISHED-TTL:P3D
REFRESH-INTERVAL:P3D
CALSCALE:GREGORIAN
BEGIN:VEVENT
DTSTART:20161222T010000Z
DTEND:20161222T020000Z
X-MICROSOFT-CDO-ALLDAYEVENT:FALSE
SUMMARY:Navidad con El Mariachi Mundial
DESCRIPTION:The City of Weslaco and Mayor Joe V. S nchez Public Library presents "Navidad con El Mariachi Mundial" on Wednesday\, December 21\, at 7 pm. Please stay after the program to enjoy pan dulce mexicano with hot chocolate or caf . This event is free and open to the public.
X-ALT-DESC;FMTTYPE=text/html:The City of Weslaco and Mayor Joe V. S&aacute\;nchez Public Library presents &ldquo\;Navidad con El Mariachi Mundial&rdquo\; on Wednesday\, December 21\, at 7 pm. Please stay after the program to enjoy pan dulce mexicano with hot chocolate or caf&eacute\;. This event is free and open to the public.
LOCATION:Mayor Mayor Joe V. Sanchez Public Library 525 S. Kansas Ave.\, Weslaco\, TX 78596
UID:e.1244.11490
SEQUENCE:3
DTSTAMP:20260422T115207Z
URL:https://business.weslaco.com/events/details/navidad-con-el-mariachi-mundial-11490
END:VEVENT

END:VCALENDAR
