BEGIN:VCALENDAR
VERSION:2.0
PRODID:-//ChamberMaster//Event Calendar 2.0//EN
METHOD:PUBLISH
X-PUBLISHED-TTL:P3D
REFRESH-INTERVAL:P3D
CALSCALE:GREGORIAN
BEGIN:VEVENT
DTSTART:20181130T220000Z
DTEND:20181201T000000Z
X-MICROSOFT-CDO-ALLDAYEVENT:FALSE
SUMMARY:Navy Army Credit Union Grand Opening
DESCRIPTION:Celebrating the new Navy Army Community Credit Union branch  in Weslaco!
X-ALT-DESC;FMTTYPE=text/html:Celebrating the new Navy Army Community Credit Union branch&nbsp\; in Weslaco!
LOCATION:701 N. Airport Dr. Weslaco
UID:e.1244.17026
SEQUENCE:3
DTSTAMP:20260420T214424Z
URL:https://business.weslaco.com/events/details/navy-army-credit-union-grand-opening-17026
END:VEVENT

END:VCALENDAR
