BEGIN:VCALENDAR
VERSION:2.0
PRODID:-//ChamberMaster//Event Calendar 2.0//EN
METHOD:PUBLISH
X-PUBLISHED-TTL:P3D
REFRESH-INTERVAL:P3D
CALSCALE:GREGORIAN
BEGIN:VEVENT
DTSTART:20150520T163000Z
DTEND:20150520T190000Z
X-MICROSOFT-CDO-ALLDAYEVENT:FALSE
SUMMARY:Networking Lunch and Learn sponsored by McCaleb Funeral Home
DESCRIPTION:Join us for a tour of the facility\, a Q&A session and some networking! Don't forget the business cards!
X-ALT-DESC;FMTTYPE=text/html:<span style="font-size:12px\;"><span style="font-family:arial\;"><span style="font-weight:bold\;">Join us for a tour of the facility\, a Q&amp\;A session and some networking! Don&rsquo\;t forget the business cards!</span></span></span><br />\n&nbsp\;
LOCATION:McCaleb Funeral Home 900 W. 4th St. Weslaco\, TX
UID:e.1244.6271
SEQUENCE:3
DTSTAMP:20260423T180626Z
URL:https://business.weslaco.com/events/details/networking-lunch-and-learn-sponsored-by-mccaleb-funeral-home-05-20-2015-6271
END:VEVENT

END:VCALENDAR
