BEGIN:VCALENDAR
VERSION:2.0
PRODID:-//ChamberMaster//Event Calendar 2.0//EN
METHOD:PUBLISH
X-PUBLISHED-TTL:P3D
REFRESH-INTERVAL:P3D
CALSCALE:GREGORIAN
BEGIN:VEVENT
DTSTART:20151123T230000Z
DTEND:20151124T000000Z
X-MICROSOFT-CDO-ALLDAYEVENT:FALSE
SUMMARY:New Dimension Spa & Salon Grand Re-Opening and Ribbon Cutting
DESCRIPTION:New Dimension Spa and Salon is celebrating 20 years! Join us at the Grand Re-opening and Ribbon Cutting Ceremony.
X-ALT-DESC;FMTTYPE=text/html:New Dimension Spa and Salon is celebrating 20 years! Join us at the Grand Re-opening and Ribbon Cutting Ceremony.
LOCATION:110 E. Agostadero St\, Ste. A Weslaco\, TX
UID:e.1244.9052
SEQUENCE:3
DTSTAMP:20260423T084736Z
URL:https://business.weslaco.com/events/details/new-dimension-spa-salon-grand-re-opening-and-ribbon-cutting-11-23-2015-9052
END:VEVENT

END:VCALENDAR
