BEGIN:VCALENDAR
VERSION:2.0
PRODID:-//ChamberMaster//Event Calendar 2.0//EN
METHOD:PUBLISH
X-PUBLISHED-TTL:P3D
REFRESH-INTERVAL:P3D
CALSCALE:GREGORIAN
BEGIN:VEVENT
DTSTART:20160211T230000Z
DTEND:20160212T010000Z
X-MICROSOFT-CDO-ALLDAYEVENT:FALSE
SUMMARY:New Member Expo
DESCRIPTION:Weslaco Chamber new members will be welcomed and introduced at this Member Expo. Everyone is invited!
X-ALT-DESC;FMTTYPE=text/html:Weslaco Chamber new members will be welcomed and introduced at this Member Expo. Everyone is invited!
LOCATION:Weslaco Business Visitor Center\, 275 S. Kansas\, Weslaco\, TX
UID:e.1244.9106
SEQUENCE:3
DTSTAMP:20260423T040149Z
URL:https://business.weslaco.com/events/details/new-member-expo-02-11-2016-9106
END:VEVENT

END:VCALENDAR
