BEGIN:VCALENDAR
VERSION:2.0
PRODID:-//ChamberMaster//Event Calendar 2.0//EN
METHOD:PUBLISH
X-PUBLISHED-TTL:P3D
REFRESH-INTERVAL:P3D
CALSCALE:GREGORIAN
BEGIN:VEVENT
DTSTART:20191228T020000Z
DTEND:20191228T040000Z
X-MICROSOFT-CDO-ALLDAYEVENT:FALSE
SUMMARY:New Moon Hike
DESCRIPTION:Especially kid-friendly\, there's nothing to be afraid of here!\n\n\n\nYou've seen the Park in the daytime\, now see it at night. One never knows what may happen\, but we plan on:\n\n  spider-sniffing (maybe even tarantulas!)\n\n  scorpions glowing under black lights\n\n  pauraques (night birds seen nowhere else in the US except South Texas)\n\n  alligator eyes glowing red in the night\n\n  stargazing\, constellations\, planets\n\n  creatures of the night. anything is possible including armadillos\, owls\, frogs\, bobcats\, snakes\, bats...
X-ALT-DESC;FMTTYPE=text/html:<span>Especially kid-friendly\, there&#39\;s nothing to be afraid of here!<br />\n<br />\nYou&#39\;ve seen the Park in the daytime\, now see it at night. One never knows what may happen\, but we plan on:<br />\n&bull\; spider-sniffing (maybe even tarantulas!)<br />\n&bull\; scorpions glowing under black lights<br />\n&bull\; pauraques (night birds seen nowhere else in the US except South Texas)<br />\n&bull\; alligator eyes glowing red in the night<br />\n&bull\; stargazing\, constellations\, planets<br />\n&bull\; creatures of the night. anything is possible including armadillos\, owls\, frogs\, bobcats\, snakes\, bats...</span><br />\n&nbsp\;
LOCATION:Estero Llano Grande State Park 3301 S. International Blvd. Weslaco\, TX
UID:e.1244.18845
SEQUENCE:3
DTSTAMP:20260419T233826Z
URL:https://business.weslaco.com/events/details/new-moon-hike-18845
END:VEVENT

END:VCALENDAR
