BEGIN:VCALENDAR
VERSION:2.0
PRODID:-//ChamberMaster//Event Calendar 2.0//EN
METHOD:PUBLISH
X-PUBLISHED-TTL:P3D
REFRESH-INTERVAL:P3D
CALSCALE:GREGORIAN
BEGIN:VEVENT
DTSTART:20131104T020000Z
DTEND:20131104T040000Z
X-MICROSOFT-CDO-ALLDAYEVENT:FALSE
SUMMARY:New Moon Party
DESCRIPTION:The night sky is a wondrous thing.  Take a journey through time and space learning about the universe and what it is made of.  Watch a comet\, find a plant\, discover a star\, the possibilities are endless in the night sky.
X-ALT-DESC;FMTTYPE=text/html:The night sky is a wondrous thing. &nbsp\;Take a journey through time and space learning about the universe and what it is made of. &nbsp\;Watch a comet\, find a plant\, discover a star\, the possibilities are endless in the night sky.
LOCATION:Estero Llano Grande State Park 3301 S. International Blvd.
UID:e.1244.4763
SEQUENCE:3
DTSTAMP:20260425T004918Z
URL:https://business.weslaco.com/events/details/new-moon-party-11-03-2013-4763
END:VEVENT

END:VCALENDAR
