BEGIN:VCALENDAR
VERSION:2.0
PRODID:-//ChamberMaster//Event Calendar 2.0//EN
METHOD:PUBLISH
X-PUBLISHED-TTL:P3D
REFRESH-INTERVAL:P3D
CALSCALE:GREGORIAN
BEGIN:VEVENT
DTSTART:20180607T133000Z
DTEND:20180607T143000Z
X-MICROSOFT-CDO-ALLDAYEVENT:FALSE
SUMMARY:New Tax Laws Seminar
DESCRIPTION:The Tax Cuts and Jobs Act was signed into law in December 2017 and will drastically affect filing of 2018 tax returns.\n\n	There are changes related to corporate tax rate\, pass-through deductions (particularly for service businesses)\, bonus depreciation\, automobile depreciation\, Section 179 expensing\, business interest deductions\, along with other deductions and credits.\n	These changes impact current business decisions which will be reflected on your next tax return.\n	Planning opportunities exist to maximize benefits and avoid surprises due to the new tax law.\n\nIn this workshop Sandra Charlton will provide a synopsis of provisions within the new tax laws which affect your business. The program is designed as an overview with significant opportunity to ask questions more specific to your business.
X-ALT-DESC;FMTTYPE=text/html:<span style="color:#36495F\;"><span style="font-size:10.5pt\;">The Tax Cuts and Jobs Act was signed into law in December 2017 and will drastically affect filing of 2018 tax returns.</span></span>\n<ul>\n	<li><span style="color:#36495F\;"><span style="font-size:10.5pt\;">There are changes related to corporate tax rate\, pass-through deductions (particularly for service businesses)\, bonus depreciation\, automobile depreciation\, Section 179 expensing\, business interest deductions\, along with other deductions and credits.</span></span></li>\n	<li><span style="color:#36495F\;"><span style="font-size:10.5pt\;">These changes impact current business decisions which will be reflected on your next tax return.</span></span></li>\n	<li><span style="color:#36495F\;"><span style="font-size:10.5pt\;">Planning opportunities exist to maximize benefits and avoid surprises due to the new tax law.</span></span></li>\n</ul>\n<span style="color:#36495F\;"><span style="font-family:calibri\,sans-serif\;"><span style="font-size:10.5pt\;">In this workshop Sandra Charlton will provide a synopsis of provisions within the new tax laws which affect your business.&nbsp\;The program is designed as an overview with significant opportunity to ask questions more specific to your business.&nbsp\;</span></span></span>
LOCATION:Weslaco Business Visitor and Event Center 275 S. Kansas
UID:e.1244.16905
SEQUENCE:3
DTSTAMP:20260421T075015Z
URL:https://business.weslaco.com/events/details/new-tax-laws-seminar-16905
END:VEVENT

END:VCALENDAR
