BEGIN:VCALENDAR
VERSION:2.0
PRODID:-//ChamberMaster//Event Calendar 2.0//EN
METHOD:PUBLISH
X-PUBLISHED-TTL:P3D
REFRESH-INTERVAL:P3D
CALSCALE:GREGORIAN
BEGIN:VEVENT
DTSTART:20150726T013000Z
DTEND:20150726T030000Z
X-MICROSOFT-CDO-ALLDAYEVENT:FALSE
SUMMARY:Night Hike at Frontera Audubon
DESCRIPTION:See what nocturnal creatures await along the Thicket Trail this summer. It's our first-ever Night Hike! Follow our guides with your flashlights and see what unfolds. We will look for spiders\, bats\, frogs\, toads\, and nocturnal birds like pauraques and owls. Be sure to bring bug spray and wear closed-toe shoes. Some flashlights will be provided. Cost is $3 per person and free for Frontera members.
X-ALT-DESC;FMTTYPE=text/html:<a name="_MailAutoSig">See what nocturnal creatures await along the Thicket Trail this summer. It&#39\;s our first-ever Night Hike! Follow our guides with your flashlights and see what unfolds. We will look for spiders\, bats\, frogs\, toads\, and nocturnal birds like pauraques and owls. Be sure to bring bug spray and wear closed-toe shoes. Some flashlights will be provided. Cost is $3 per person and free for Frontera members.</a>
LOCATION:Frontera Audubon 1101 S. Texas
UID:e.1244.6694
SEQUENCE:3
DTSTAMP:20260423T144807Z
URL:https://business.weslaco.com/events/details/night-hike-at-frontera-audubon-07-25-2015-6694
END:VEVENT

END:VCALENDAR
