BEGIN:VCALENDAR
VERSION:2.0
PRODID:-//ChamberMaster//Event Calendar 2.0//EN
METHOD:PUBLISH
X-PUBLISHED-TTL:P3D
REFRESH-INTERVAL:P3D
CALSCALE:GREGORIAN
BEGIN:VEVENT
DTSTART:20150823T010000Z
DTEND:20150823T030000Z
X-MICROSOFT-CDO-ALLDAYEVENT:FALSE
SUMMARY:Night Hike at Frontera Audubon
DESCRIPTION:
X-ALT-DESC;FMTTYPE=text/html:
LOCATION:Frontera Audubon 1101 S. Texas
UID:e.1244.6696
SEQUENCE:3
DTSTAMP:20260423T131251Z
URL:https://business.weslaco.com/events/details/night-hike-at-frontera-audubon-08-22-2015-6696
END:VEVENT

END:VCALENDAR
