BEGIN:VCALENDAR
VERSION:2.0
PRODID:-//ChamberMaster//Event Calendar 2.0//EN
METHOD:PUBLISH
X-PUBLISHED-TTL:P3D
REFRESH-INTERVAL:P3D
CALSCALE:GREGORIAN
BEGIN:VEVENT
DTSTART:20191019T003000Z
DTEND:20191019T013000Z
X-MICROSOFT-CDO-ALLDAYEVENT:FALSE
SUMMARY:Night Hike at Frontera Audubon
DESCRIPTION:Save the date! See what nocturnal creatures await along the Thicket Trail on our first night hike of the year! Ernest Herrera will lead the group by flashlight and we will see what surprises we might find! We will also be setting up a blacklight to see different insects that may come up to it\, such as moths!
X-ALT-DESC;FMTTYPE=text/html:<span style="color: rgb(29\, 33\, 41)\; font-family: Helvetica\, Arial\, sans-serif\; font-size: 14px\;">Save the date! See what nocturnal creatures await along the Thicket Trail on our first night hike of the year! Ernest Herrera will lead the group by flashlight and we will see what surprises we might find! We will also be setting up a blacklight to see different insects that may come up to it\, such as moths!</span>
LOCATION:Frontera Audubon 1101 S. Texas
UID:e.1244.18788
SEQUENCE:3
DTSTAMP:20260420T044011Z
URL:https://business.weslaco.com/events/details/night-hike-at-frontera-audubon-18788
END:VEVENT

END:VCALENDAR
